BEGIN:VCALENDAR
VERSION:2.0
PRODID:-//De Valken - ECPv6.6.3//NONSGML v1.0//EN
CALSCALE:GREGORIAN
METHOD:PUBLISH
X-WR-CALNAME:De Valken
X-ORIGINAL-URL:https://www.devalken.com
X-WR-CALDESC:Evenementen voor De Valken
REFRESH-INTERVAL;VALUE=DURATION:PT1H
X-Robots-Tag:noindex
X-PUBLISHED-TTL:PT1H
BEGIN:VTIMEZONE
TZID:Europe/Helsinki
BEGIN:DAYLIGHT
TZOFFSETFROM:+0200
TZOFFSETTO:+0300
TZNAME:EEST
DTSTART:20260329T010000
END:DAYLIGHT
BEGIN:STANDARD
TZOFFSETFROM:+0300
TZOFFSETTO:+0200
TZNAME:EET
DTSTART:20261025T010000
END:STANDARD
END:VTIMEZONE
BEGIN:VEVENT
DTSTART;TZID=Europe/Helsinki:20260104T110000
DTEND;TZID=Europe/Helsinki:20260104T140000
DTSTAMP:20260420T053738
CREATED:20251201T190150Z
LAST-MODIFIED:20260103T154546Z
UID:357137-1767524400-1767535200@www.devalken.com
SUMMARY:Nieuwjaarswedstrijden voetbal in de Banne
DESCRIPTION:11.00 Nieuwjaarswedstrijden in de Banne voor de voetbal.\n15.00 Receptie in de kantine.
URL:https://www.devalken.com/index.php/event/nieuwjaarswedstrijden-handbal-en-voetbal/
END:VEVENT
BEGIN:VEVENT
DTSTART;TZID=Europe/Helsinki:20260104T150000
DTEND;TZID=Europe/Helsinki:20260104T180000
DTSTAMP:20260420T053738
CREATED:20251111T192606Z
LAST-MODIFIED:20251201T174438Z
UID:357077-1767538800-1767549600@www.devalken.com
SUMMARY:Nieuwjaarsreceptie
DESCRIPTION:12.30 Nieuwjaarswedstrijden in de Banne voor handbal en op de voetbalvelden voor voetbal.\n15.00 Receptie in de kantine.
URL:https://www.devalken.com/index.php/event/nieuwjaarsreceptie-2/
END:VEVENT
END:VCALENDAR